{
 "currentVersion": 11.3,
 "cimVersion": "3.3.0",
 "serviceDescription": "",
 "mapName": "old maps",
 "description": "",
 "copyrightText": "",
 "supportsDynamicLayers": false,
 "layers": [
  {
   "id": 27,
   "name": "1938_tripoli_etude_analytique_et_plan_directeur_0069.tif",
   "parentLayerId": -1,
   "defaultVisibility": true,
   "subLayerIds": null,
   "minScale": 0,
   "maxScale": 0,
   "type": "Raster Layer",
   "supportsDynamicLegends": true
  }
 ],
 "tables": [],
 "spatialReference": {
  "wkid": 102100,
  "latestWkid": 3857,
  "xyTolerance": 0.001,
  "zTolerance": 0.001,
  "mTolerance": 0.001,
  "falseX": -20037700,
  "falseY": -30241100,
  "xyUnits": 10000,
  "falseZ": -100000,
  "zUnits": 10000,
  "falseM": -100000,
  "mUnits": 10000
 },
 "singleFusedMapCache": true,
 "tileInfo": {
  "rows": 256,
  "cols": 256,
  "dpi": 96,
  "format": "Mixed",
  "compressionQuality": 75,
  "origin": {
   "x": -2.0037508342787E7,
   "y": 2.0037508342787E7
  },
  "spatialReference": {
   "wkid": 102100,
   "latestWkid": 3857,
   "xyTolerance": 0.001,
   "zTolerance": 0.001,
   "mTolerance": 0.001,
   "falseX": -20037700,
   "falseY": -30241100,
   "xyUnits": 1.4892314192838538E8,
   "falseZ": -100000,
   "zUnits": 10000,
   "falseM": -100000,
   "mUnits": 10000
  },
  "lods": [
   {
    "level": 0,
    "resolution": 156543.033928,
    "scale": 5.91657527591555E8
   },
   {
    "level": 1,
    "resolution": 78271.5169639999,
    "scale": 2.95828763795777E8
   },
   {
    "level": 2,
    "resolution": 39135.7584820001,
    "scale": 1.47914381897889E8
   },
   {
    "level": 3,
    "resolution": 19567.8792409999,
    "scale": 7.3957190948944E7
   },
   {
    "level": 4,
    "resolution": 9783.93962049996,
    "scale": 3.6978595474472E7
   },
   {
    "level": 5,
    "resolution": 4891.96981024998,
    "scale": 1.8489297737236E7
   },
   {
    "level": 6,
    "resolution": 2445.98490512499,
    "scale": 9244648.868618
   },
   {
    "level": 7,
    "resolution": 1222.99245256249,
    "scale": 4622324.434309
   },
   {
    "level": 8,
    "resolution": 611.49622628138,
    "scale": 2311162.217155
   },
   {
    "level": 9,
    "resolution": 305.748113140558,
    "scale": 1155581.108577
   },
   {
    "level": 10,
    "resolution": 152.874056570411,
    "scale": 577790.554289
   },
   {
    "level": 11,
    "resolution": 76.4370282850732,
    "scale": 288895.277144
   },
   {
    "level": 12,
    "resolution": 38.2185141425366,
    "scale": 144447.638572
   },
   {
    "level": 13,
    "resolution": 19.1092570712683,
    "scale": 72223.819286
   },
   {
    "level": 14,
    "resolution": 9.55462853563415,
    "scale": 36111.909643
   },
   {
    "level": 15,
    "resolution": 4.77731426794937,
    "scale": 18055.954822
   },
   {
    "level": 16,
    "resolution": 2.38865713397468,
    "scale": 9027.977411
   },
   {
    "level": 17,
    "resolution": 1.19432856685505,
    "scale": 4513.988705
   },
   {
    "level": 18,
    "resolution": 0.597164283559817,
    "scale": 2256.994353
   },
   {
    "level": 19,
    "resolution": 0.298582141647617,
    "scale": 1128.497176
   },
   {
    "level": 20,
    "resolution": 0.14929107082380833,
    "scale": 564.248588
   },
   {
    "level": 21,
    "resolution": 0.07464553541190416,
    "scale": 282.124294
   },
   {
    "level": 22,
    "resolution": 0.03732276770595208,
    "scale": 141.062147
   },
   {
    "level": 23,
    "resolution": 0.01866138385297604,
    "scale": 70.5310735
   }
  ]
 },
 "storageInfo": {
  "storageFormat": "esriMapCacheStorageModeCompactV2",
  "packetSize": 128
 },
 "initialExtent": {
  "xmin": 3985502.196940615,
  "ymin": 4082333.0921108383,
  "xmax": 3995148.280451524,
  "ymax": 4091411.140169633,
  "spatialReference": {
   "wkid": 102100,
   "latestWkid": 3857,
   "xyTolerance": 0.001,
   "zTolerance": 0.001,
   "mTolerance": 0.001,
   "falseX": -20037700,
   "falseY": -30241100,
   "xyUnits": 10000,
   "falseZ": -100000,
   "zUnits": 10000,
   "falseM": -100000,
   "mUnits": 10000
  }
 },
 "fullExtent": {
  "xmin": 3985604.3565273145,
  "ymin": 4083613.0534293554,
  "xmax": 3996009.3521646657,
  "ymax": 4090927.6751867635,
  "spatialReference": {
   "wkid": 102100,
   "latestWkid": 3857,
   "xyTolerance": 0.001,
   "zTolerance": 0.001,
   "mTolerance": 0.001,
   "falseX": -20037700,
   "falseY": -30241100,
   "xyUnits": 10000,
   "falseZ": -100000,
   "zUnits": 10000,
   "falseM": -100000,
   "mUnits": 10000
  }
 },
 "datesInUnknownTimezone": false,
 "units": "esriMeters",
 "supportedImageFormatTypes": "PNG32,PNG24,PNG,JPG,DIB,TIFF,EMF,PS,PDF,GIF,SVG,SVGZ,BMP",
 "documentInfo": {
  "Title": "old maps",
  "Author": "",
  "Comments": "",
  "Subject": "",
  "Category": "",
  "Version": "3.3.0",
  "AntialiasingMode": "None",
  "TextAntialiasingMode": "Force",
  "Keywords": ""
 },
 "supportsQueryDomains": true,
 "supportedQueryFormats": "JSON, geoJSON, PBF",
 "referenceScale": 0.0,
 "datumTransformations": [
  {
   "geoTransforms": [
    {
     "wkt2": "COORDINATEOPERATION[\"SGLstereo to WGS84\",SOURCECRS[GEOGCRS[\"GCS_SGL_GEO\",DATUM[\"D_SGL\",ELLIPSOID[\"Clarke_1880_IGN\",6378249.2,293.4660212936265,LENGTHUNIT[\"Meter\",1.0]]],PRIMEM[\"Greenwich\",0.0,ANGLEUNIT[\"Degree\",0.0174532925199433]],CS[ellipsoidal,2],ANGLEUNIT[\"Degree\",0.0174532925199433]]],TARGETCRS[GEOGCRS[\"GCS_WGS_1984\",DATUM[\"D_WGS_1984\",ELLIPSOID[\"WGS_1984\",6378137.0,298.257223563,LENGTHUNIT[\"Meter\",1.0]]],PRIMEM[\"Greenwich\",0.0,ANGLEUNIT[\"Degree\",0.0174532925199433]],CS[ellipsoidal,2],ANGLEUNIT[\"Degree\",0.0174532925199433]]],METHOD[\"Position_Vector\"],PARAMETER[\"X_Axis_Translation\",-175.993534,LENGTHUNIT[\"Meter\",1.0]],PARAMETER[\"Y_Axis_Translation\",-125.264623,LENGTHUNIT[\"Meter\",1.0]],PARAMETER[\"Z_Axis_Translation\",244.865805,LENGTHUNIT[\"Meter\",1.0]],PARAMETER[\"X_Axis_Rotation\",-17.315446,ANGLEUNIT[\"Arcsecond\",0.00000484813681109536]],PARAMETER[\"Y_Axis_Rotation\",-12.135795,ANGLEUNIT[\"Arcsecond\",0.00000484813681109536]],PARAMETER[\"Z_Axis_Rotation\",-10.54265,ANGLEUNIT[\"Arcsecond\",0.00000484813681109536]],PARAMETER[\"Scale_Difference\",6.123214,SCALEUNIT[\"Parts_Per_Million\",0.000001]]]",
     "wkt": "GEOGTRAN[\"SGLstereo to WGS84\",GEOGCS[\"GCS_SGL_GEO\",DATUM[\"D_SGL\",SPHEROID[\"Clarke_1880_IGN\",6378249.2,293.4660212936265]],PRIMEM[\"Greenwich\",0.0],UNIT[\"Degree\",0.0174532925199433]],GEOGCS[\"GCS_WGS_1984\",DATUM[\"D_WGS_1984\",SPHEROID[\"WGS_1984\",6378137.0,298.257223563]],PRIMEM[\"Greenwich\",0.0],UNIT[\"Degree\",0.0174532925199433]],METHOD[\"Position_Vector\"],PARAMETER[\"X_Axis_Translation\",-175.993534],PARAMETER[\"Y_Axis_Translation\",-125.264623],PARAMETER[\"Z_Axis_Translation\",244.865805],PARAMETER[\"X_Axis_Rotation\",-17.315446],PARAMETER[\"Y_Axis_Rotation\",-12.135795],PARAMETER[\"Z_Axis_Rotation\",-10.54265],PARAMETER[\"Scale_Difference\",6.123214]]",
     "transformForward": true,
     "name": "SGLstereo to WGS84"
    }
   ]
  },
  {
   "geoTransforms": [
    {
     "wkt2": "COORDINATEOPERATION[\"SGLstereo to WGS84\",SOURCECRS[GEOGCRS[\"GCS_SGL_GEO\",DATUM[\"D_SGL\",ELLIPSOID[\"Clarke_1880_IGN\",6378249.2,293.4660212936265,LENGTHUNIT[\"Meter\",1.0]]],PRIMEM[\"Greenwich\",0.0,ANGLEUNIT[\"Degree\",0.0174532925199433]],CS[ellipsoidal,2],ANGLEUNIT[\"Degree\",0.0174532925199433]]],TARGETCRS[GEOGCRS[\"GCS_WGS_1984\",DATUM[\"D_WGS_1984\",ELLIPSOID[\"WGS_1984\",6378137.0,298.257223563,LENGTHUNIT[\"Meter\",1.0]]],PRIMEM[\"Greenwich\",0.0,ANGLEUNIT[\"Degree\",0.0174532925199433]],CS[ellipsoidal,2],ANGLEUNIT[\"Degree\",0.0174532925199433]]],METHOD[\"Position_Vector\"],PARAMETER[\"X_Axis_Translation\",-175.993534,LENGTHUNIT[\"Meter\",1.0]],PARAMETER[\"Y_Axis_Translation\",-125.264623,LENGTHUNIT[\"Meter\",1.0]],PARAMETER[\"Z_Axis_Translation\",244.865805,LENGTHUNIT[\"Meter\",1.0]],PARAMETER[\"X_Axis_Rotation\",-17.315446,ANGLEUNIT[\"Arcsecond\",0.00000484813681109536]],PARAMETER[\"Y_Axis_Rotation\",-12.135795,ANGLEUNIT[\"Arcsecond\",0.00000484813681109536]],PARAMETER[\"Z_Axis_Rotation\",-10.54265,ANGLEUNIT[\"Arcsecond\",0.00000484813681109536]],PARAMETER[\"Scale_Difference\",6.123214,SCALEUNIT[\"Parts_Per_Million\",0.000001]]]",
     "wkt": "GEOGTRAN[\"SGLstereo to WGS84\",GEOGCS[\"GCS_SGL_GEO\",DATUM[\"D_SGL\",SPHEROID[\"Clarke_1880_IGN\",6378249.2,293.4660212936265]],PRIMEM[\"Greenwich\",0.0],UNIT[\"Degree\",0.0174532925199433]],GEOGCS[\"GCS_WGS_1984\",DATUM[\"D_WGS_1984\",SPHEROID[\"WGS_1984\",6378137.0,298.257223563]],PRIMEM[\"Greenwich\",0.0],UNIT[\"Degree\",0.0174532925199433]],METHOD[\"Position_Vector\"],PARAMETER[\"X_Axis_Translation\",-175.993534],PARAMETER[\"Y_Axis_Translation\",-125.264623],PARAMETER[\"Z_Axis_Translation\",244.865805],PARAMETER[\"X_Axis_Rotation\",-17.315446],PARAMETER[\"Y_Axis_Rotation\",-12.135795],PARAMETER[\"Z_Axis_Rotation\",-10.54265],PARAMETER[\"Scale_Difference\",6.123214]]",
     "transformForward": false,
     "name": "SGLstereo to WGS84"
    }
   ]
  },
  {
   "geoTransforms": [
    {
     "wkid": 15742,
     "latestWkid": 15742,
     "transformForward": false,
     "name": "Deir_ez_Zor_To_WGS_1984_5"
    }
   ]
  },
  {
   "geoTransforms": [
    {
     "wkid": 15742,
     "latestWkid": 15742,
     "transformForward": true,
     "name": "Deir_ez_Zor_To_WGS_1984_5"
    }
   ]
  },
  {
   "geoTransforms": [
    {
     "wkid": 15742,
     "latestWkid": 15742,
     "transformForward": false,
     "name": "Deir_ez_Zor_To_WGS_1984_5"
    }
   ]
  },
  {
   "geoTransforms": [
    {
     "wkid": 15742,
     "latestWkid": 15742,
     "transformForward": true,
     "name": "Deir_ez_Zor_To_WGS_1984_5"
    }
   ]
  },
  {
   "geoTransforms": [
    {
     "wkid": 15742,
     "latestWkid": 15742,
     "transformForward": false,
     "name": "Deir_ez_Zor_To_WGS_1984_5"
    }
   ]
  },
  {
   "geoTransforms": [
    {
     "wkid": 15742,
     "latestWkid": 15742,
     "transformForward": true,
     "name": "Deir_ez_Zor_To_WGS_1984_5"
    }
   ]
  },
  {
   "geoTransforms": [
    {
     "wkid": 15742,
     "latestWkid": 15742,
     "transformForward": false,
     "name": "Deir_ez_Zor_To_WGS_1984_5"
    }
   ]
  },
  {
   "geoTransforms": [
    {
     "wkid": 15742,
     "latestWkid": 15742,
     "transformForward": true,
     "name": "Deir_ez_Zor_To_WGS_1984_5"
    }
   ]
  },
  {
   "geoTransforms": [
    {
     "wkid": 15742,
     "latestWkid": 15742,
     "transformForward": false,
     "name": "Deir_ez_Zor_To_WGS_1984_5"
    }
   ]
  },
  {
   "geoTransforms": [
    {
     "wkid": 15742,
     "latestWkid": 15742,
     "transformForward": true,
     "name": "Deir_ez_Zor_To_WGS_1984_5"
    }
   ]
  },
  {
   "geoTransforms": [
    {
     "wkid": 15742,
     "latestWkid": 15742,
     "transformForward": false,
     "name": "Deir_ez_Zor_To_WGS_1984_5"
    }
   ]
  },
  {
   "geoTransforms": [
    {
     "wkid": 15742,
     "latestWkid": 15742,
     "transformForward": true,
     "name": "Deir_ez_Zor_To_WGS_1984_5"
    }
   ]
  },
  {
   "geoTransforms": [
    {
     "wkid": 15742,
     "latestWkid": 15742,
     "transformForward": false,
     "name": "Deir_ez_Zor_To_WGS_1984_5"
    }
   ]
  },
  {
   "geoTransforms": [
    {
     "wkid": 15742,
     "latestWkid": 15742,
     "transformForward": true,
     "name": "Deir_ez_Zor_To_WGS_1984_5"
    }
   ]
  },
  {
   "geoTransforms": [
    {
     "wkid": 15742,
     "latestWkid": 15742,
     "transformForward": false,
     "name": "Deir_ez_Zor_To_WGS_1984_5"
    }
   ]
  },
  {
   "geoTransforms": [
    {
     "wkid": 15742,
     "latestWkid": 15742,
     "transformForward": true,
     "name": "Deir_ez_Zor_To_WGS_1984_5"
    }
   ]
  },
  {
   "geoTransforms": [
    {
     "wkid": 15742,
     "latestWkid": 15742,
     "transformForward": false,
     "name": "Deir_ez_Zor_To_WGS_1984_5"
    }
   ]
  },
  {
   "geoTransforms": [
    {
     "wkid": 15742,
     "latestWkid": 15742,
     "transformForward": true,
     "name": "Deir_ez_Zor_To_WGS_1984_5"
    }
   ]
  },
  {
   "geoTransforms": [
    {
     "wkid": 15742,
     "latestWkid": 15742,
     "transformForward": false,
     "name": "Deir_ez_Zor_To_WGS_1984_5"
    }
   ]
  },
  {
   "geoTransforms": [
    {
     "wkid": 15742,
     "latestWkid": 15742,
     "transformForward": true,
     "name": "Deir_ez_Zor_To_WGS_1984_5"
    }
   ]
  },
  {
   "geoTransforms": [
    {
     "wkid": 15742,
     "latestWkid": 15742,
     "transformForward": false,
     "name": "Deir_ez_Zor_To_WGS_1984_5"
    }
   ]
  },
  {
   "geoTransforms": [
    {
     "wkid": 15742,
     "latestWkid": 15742,
     "transformForward": true,
     "name": "Deir_ez_Zor_To_WGS_1984_5"
    }
   ]
  },
  {
   "geoTransforms": [
    {
     "wkid": 15742,
     "latestWkid": 15742,
     "transformForward": false,
     "name": "Deir_ez_Zor_To_WGS_1984_5"
    }
   ]
  },
  {
   "geoTransforms": [
    {
     "wkid": 15742,
     "latestWkid": 15742,
     "transformForward": true,
     "name": "Deir_ez_Zor_To_WGS_1984_5"
    }
   ]
  },
  {
   "geoTransforms": [
    {
     "wkid": 15742,
     "latestWkid": 15742,
     "transformForward": false,
     "name": "Deir_ez_Zor_To_WGS_1984_5"
    }
   ]
  },
  {
   "geoTransforms": [
    {
     "wkid": 15742,
     "latestWkid": 15742,
     "transformForward": true,
     "name": "Deir_ez_Zor_To_WGS_1984_5"
    }
   ]
  },
  {
   "geoTransforms": [
    {
     "wkid": 15742,
     "latestWkid": 15742,
     "transformForward": false,
     "name": "Deir_ez_Zor_To_WGS_1984_5"
    }
   ]
  },
  {
   "geoTransforms": [
    {
     "wkid": 15742,
     "latestWkid": 15742,
     "transformForward": true,
     "name": "Deir_ez_Zor_To_WGS_1984_5"
    }
   ]
  },
  {
   "geoTransforms": [
    {
     "wkid": 15742,
     "latestWkid": 15742,
     "transformForward": false,
     "name": "Deir_ez_Zor_To_WGS_1984_5"
    }
   ]
  },
  {
   "geoTransforms": [
    {
     "wkid": 15742,
     "latestWkid": 15742,
     "transformForward": true,
     "name": "Deir_ez_Zor_To_WGS_1984_5"
    }
   ]
  },
  {
   "geoTransforms": [
    {
     "wkid": 15742,
     "latestWkid": 15742,
     "transformForward": false,
     "name": "Deir_ez_Zor_To_WGS_1984_5"
    }
   ]
  },
  {
   "geoTransforms": [
    {
     "wkid": 15742,
     "latestWkid": 15742,
     "transformForward": true,
     "name": "Deir_ez_Zor_To_WGS_1984_5"
    }
   ]
  },
  {
   "geoTransforms": [
    {
     "wkid": 15742,
     "latestWkid": 15742,
     "transformForward": false,
     "name": "Deir_ez_Zor_To_WGS_1984_5"
    }
   ]
  },
  {
   "geoTransforms": [
    {
     "wkid": 15742,
     "latestWkid": 15742,
     "transformForward": true,
     "name": "Deir_ez_Zor_To_WGS_1984_5"
    }
   ]
  },
  {
   "geoTransforms": [
    {
     "wkid": 15742,
     "latestWkid": 15742,
     "transformForward": false,
     "name": "Deir_ez_Zor_To_WGS_1984_5"
    }
   ]
  },
  {
   "geoTransforms": [
    {
     "wkid": 15742,
     "latestWkid": 15742,
     "transformForward": true,
     "name": "Deir_ez_Zor_To_WGS_1984_5"
    }
   ]
  },
  {
   "geoTransforms": [
    {
     "wkid": 15742,
     "latestWkid": 15742,
     "transformForward": false,
     "name": "Deir_ez_Zor_To_WGS_1984_5"
    }
   ]
  },
  {
   "geoTransforms": [
    {
     "wkid": 15742,
     "latestWkid": 15742,
     "transformForward": true,
     "name": "Deir_ez_Zor_To_WGS_1984_5"
    }
   ]
  },
  {
   "geoTransforms": [
    {
     "wkid": 15742,
     "latestWkid": 15742,
     "transformForward": false,
     "name": "Deir_ez_Zor_To_WGS_1984_5"
    }
   ]
  },
  {
   "geoTransforms": [
    {
     "wkid": 15742,
     "latestWkid": 15742,
     "transformForward": true,
     "name": "Deir_ez_Zor_To_WGS_1984_5"
    }
   ]
  },
  {
   "geoTransforms": [
    {
     "wkid": 15742,
     "latestWkid": 15742,
     "transformForward": false,
     "name": "Deir_ez_Zor_To_WGS_1984_5"
    }
   ]
  },
  {
   "geoTransforms": [
    {
     "wkid": 15742,
     "latestWkid": 15742,
     "transformForward": true,
     "name": "Deir_ez_Zor_To_WGS_1984_5"
    }
   ]
  }
 ],
 "supportsDatumTransformation": true,
 "floorAwareMapProperties": {
  "defaultFloorFilterSettings": {
   "isEnabled": false
  }
 },
 "archivingInfo": {
  "supportsHistoricMoment": false
 },
 "supportsClipping": true,
 "supportsSpatialFilter": true,
 "supportsTimeRelation": true,
 "supportsQueryDataElements": true,
 "mapUnits": {
  "uwkid": 9001
 },
 "maxRecordCount": 1000,
 "maxImageHeight": 4096,
 "maxImageWidth": 4096,
 "minScale": 72223.819286,
 "maxScale": 1128.497176,
 "exportTilesAllowed": false,
 "maxExportTilesCount": 100000,
 "capabilities": "TilesOnly,Tilemap",
 "minLOD": 13,
 "maxLOD": 19,
 "supportedExtensions": "",
 "serviceItemId": "631f0f2947c74a6cbf60646ac284a35a"
}
